BEGIN:VCALENDAR
VERSION:2.0
PRODID:-//Boot Campaign - ECPv6.15.17.1//NONSGML v1.0//EN
CALSCALE:GREGORIAN
METHOD:PUBLISH
X-ORIGINAL-URL:https://bootcampaign.org
X-WR-CALDESC:Events for Boot Campaign
REFRESH-INTERVAL;VALUE=DURATION:PT1H
X-Robots-Tag:noindex
X-PUBLISHED-TTL:PT1H
BEGIN:VTIMEZONE
TZID:America/Chicago
BEGIN:DAYLIGHT
TZOFFSETFROM:-0600
TZOFFSETTO:-0500
TZNAME:CDT
DTSTART:20250309T080000
END:DAYLIGHT
BEGIN:STANDARD
TZOFFSETFROM:-0500
TZOFFSETTO:-0600
TZNAME:CST
DTSTART:20251102T070000
END:STANDARD
BEGIN:DAYLIGHT
TZOFFSETFROM:-0600
TZOFFSETTO:-0500
TZNAME:CDT
DTSTART:20260308T080000
END:DAYLIGHT
BEGIN:STANDARD
TZOFFSETFROM:-0500
TZOFFSETTO:-0600
TZNAME:CST
DTSTART:20261101T070000
END:STANDARD
BEGIN:DAYLIGHT
TZOFFSETFROM:-0600
TZOFFSETTO:-0500
TZNAME:CDT
DTSTART:20270314T080000
END:DAYLIGHT
BEGIN:STANDARD
TZOFFSETFROM:-0500
TZOFFSETTO:-0600
TZNAME:CST
DTSTART:20271107T070000
END:STANDARD
END:VTIMEZONE
BEGIN:VEVENT
DTSTART;VALUE=DATE:20260501
DTEND;VALUE=DATE:20260601
DTSTAMP:20260423T182234
CREATED:20231114T101308Z
LAST-MODIFIED:20260326T140633Z
UID:10000031-1777593600-1780271999@bootcampaign.org
SUMMARY:Military Appreciation Month
DESCRIPTION:May is Military Appreciation Month\, and we want YOU to join us and countless patriots nationwide to honor all who have laced up in service to our country by showing appreciation. \nWhy is it so important to show appreciation to our military? \nOur nation’s servicemen and women have set aside their lives for the protection and preservation of our freedom. Some have given their lives in service. Our goal is to see a unification – from sea to shining sea – in support and gratitude for their service and sacrifice in May.
URL:https://bootcampaign.org/event/militaryappreciation/
LOCATION:Virtual
ATTACH;FMTTYPE=image/jpeg:https://bootcampaign.org/wp-content/uploads/2023/11/MAM-events-page.jpg
END:VEVENT
BEGIN:VEVENT
DTSTART;VALUE=DATE:20261031
DTEND;VALUE=DATE:20261112
DTSTAMP:20260423T182234
CREATED:20240814T021453Z
LAST-MODIFIED:20251217T144945Z
UID:10000049-1793473200-1794419999@bootcampaign.org
SUMMARY:Boot Salute
DESCRIPTION:Our nation’s Veterans deserve far more than one day of gratitude. Let’s remind Veterans and military families that they matter\, their service matters and it will never be forgotten. \nJoin us in honoring all who served between November 1 and Veterans Day\, November 11 during our annual Boot Salute.
URL:https://bootcampaign.org/event/boot-salute/
LOCATION:Virtual
ATTACH;FMTTYPE=image/jpeg:https://bootcampaign.org/wp-content/uploads/2024/08/Square_Boot-Salute-23_logo-only-scaled-e1723583970242.jpg
END:VEVENT
END:VCALENDAR