BEGIN:VCALENDAR
VERSION:2.0
PRODID:-//Boot Campaign - ECPv6.15.17.1//NONSGML v1.0//EN
CALSCALE:GREGORIAN
METHOD:PUBLISH
X-WR-CALNAME:Boot Campaign
X-ORIGINAL-URL:https://bootcampaign.org
X-WR-CALDESC:Events for Boot Campaign
REFRESH-INTERVAL;VALUE=DURATION:PT1H
X-Robots-Tag:noindex
X-PUBLISHED-TTL:PT1H
BEGIN:VTIMEZONE
TZID:America/Chicago
BEGIN:DAYLIGHT
TZOFFSETFROM:-0600
TZOFFSETTO:-0500
TZNAME:CDT
DTSTART:20220313T080000
END:DAYLIGHT
BEGIN:STANDARD
TZOFFSETFROM:-0500
TZOFFSETTO:-0600
TZNAME:CST
DTSTART:20221106T070000
END:STANDARD
BEGIN:DAYLIGHT
TZOFFSETFROM:-0600
TZOFFSETTO:-0500
TZNAME:CDT
DTSTART:20230312T080000
END:DAYLIGHT
BEGIN:STANDARD
TZOFFSETFROM:-0500
TZOFFSETTO:-0600
TZNAME:CST
DTSTART:20231105T070000
END:STANDARD
BEGIN:DAYLIGHT
TZOFFSETFROM:-0600
TZOFFSETTO:-0500
TZNAME:CDT
DTSTART:20240310T080000
END:DAYLIGHT
BEGIN:STANDARD
TZOFFSETFROM:-0500
TZOFFSETTO:-0600
TZNAME:CST
DTSTART:20241103T070000
END:STANDARD
BEGIN:DAYLIGHT
TZOFFSETFROM:-0600
TZOFFSETTO:-0500
TZNAME:CDT
DTSTART:20250309T080000
END:DAYLIGHT
BEGIN:STANDARD
TZOFFSETFROM:-0500
TZOFFSETTO:-0600
TZNAME:CST
DTSTART:20251102T070000
END:STANDARD
BEGIN:DAYLIGHT
TZOFFSETFROM:-0600
TZOFFSETTO:-0500
TZNAME:CDT
DTSTART:20260308T080000
END:DAYLIGHT
BEGIN:STANDARD
TZOFFSETFROM:-0500
TZOFFSETTO:-0600
TZNAME:CST
DTSTART:20261101T070000
END:STANDARD
END:VTIMEZONE
BEGIN:VEVENT
DTSTART;TZID=America/Chicago:20250515T040000
DTEND;TZID=America/Chicago:20250515T140000
DTSTAMP:20260425T092901
CREATED:20250219T224228Z
LAST-MODIFIED:20250407T194230Z
UID:10000056-1747281600-1747317600@bootcampaign.org
SUMMARY:Seasons Of Service Program May Volunteer Event
DESCRIPTION:Volunteer to help us wrap\, package and assemble gifts in Grapevine\, Texas\, that will be hand-delivered to deserving Veteran and military families served through our Seasons of Service Program. \nOur May volunteer date is Thursday\, May 15\, 2025. Sign up HERE to volunteer!
URL:https://bootcampaign.org/event/seasons-of-service-may-volunteer-event/
LOCATION:Grapevine\, TX
ATTACH;FMTTYPE=image/jpeg:https://bootcampaign.org/wp-content/uploads/2024/02/DSC08970-1-scaled.jpg
END:VEVENT
BEGIN:VEVENT
DTSTART;VALUE=DATE:20250328
DTEND;VALUE=DATE:20250330
DTSTAMP:20260425T092901
CREATED:20241122T222957Z
LAST-MODIFIED:20250702T025653Z
UID:10000053-1743188400-1743274799@bootcampaign.org
SUMMARY:Basin Burnout
DESCRIPTION:The Permian Basin Association of Directional Drilling’s (PBADD) annual BASIN BURNOUT BBQ Cook-off & Music Festival is a fundraising event that allows a part of the oil and gas industry to give back to the Permian Basin community as well as raise money and awareness for U.S. military Veterans. Over 30 BBQ cooking teams (primarily of oilfield related service companies along with public and private energy firms)\, compete in an unsanctioned BBQ cooking competition. All teams compete in multiple categories (brisket\, steak\, ribs\, chicken\, etc.) for a chance to call themselves the best in the Basin and take home the coveted Championship belt. This spirited competition also includes a “Fan Favorite” award voted on by close to 2\,000 attendees. \nThe 2025 Basin Burnout will be held at a new venue\, the Midland County Horseshoe. The Burnout continues to focus on providing something for all; kid-friendly activities\, live entertainment\, and Permian’s best amateur BBQ and plenty of opportunities to network for all our sponsors and cooking teams.
URL:https://bootcampaign.org/event/basin-burnout-2025/
LOCATION:The Midland County Horseshoe\, 2514 Arena Trail\, Midland\, TX\, 79701
ATTACH;FMTTYPE=image/png:https://bootcampaign.org/wp-content/uploads/2024/11/bb_coverphoto-1-e1751406987260.png
ORGANIZER;CN="Permian Basin Association of Directional Drilling (PBADD)":MAILTO:info@basinburnout.com
END:VEVENT
BEGIN:VEVENT
DTSTART;VALUE=DATE:20250220
DTEND;VALUE=DATE:20250224
DTSTAMP:20260425T092901
CREATED:20250109T033244Z
LAST-MODIFIED:20250109T033859Z
UID:10000055-1740074400-1740333599@bootcampaign.org
SUMMARY:Helicopters for Heroes
DESCRIPTION:The 2025 Helicopter for Heroes Weekend in Ennis\, Texas promises to be a unique and memorable experience for Veterans and supporters alike. The event brings together a community of like-minded individuals who are passionate about supporting Veterans and raising funds for charity. \nFor more information and tickets\, visit helicoptersforheroes.org/weekendhunt .
URL:https://bootcampaign.org/event/helicopters-for-heroes-2025/
ATTACH;FMTTYPE=image/jpeg:https://bootcampaign.org/wp-content/uploads/2025/01/Helicopters-for-Heroes-2025.jpg
END:VEVENT
BEGIN:VEVENT
DTSTART;VALUE=DATE:20250213
DTEND;VALUE=DATE:20250216
DTSTAMP:20260425T092901
CREATED:20241211T022914Z
LAST-MODIFIED:20241211T022914Z
UID:10000054-1739469600-1739642399@bootcampaign.org
SUMMARY:Chili When It's Chilly
DESCRIPTION:Chili When It’s Chilly is a family-friendly two-day event jammed packed with cooking competitions\, live music and a ton of fun to benefit Boot Campaign! \nYour support of Chili When It’s Chilly gives our servicemen and women access to life-improving programs – free of charge – to the Veteran and their family through Boot Campaign.
URL:https://bootcampaign.org/event/chili-when-its-chilly-2/
LOCATION:Jellystone Park™ Waller\, 34843 Betka Road\, Waller\, TX\, 77484\, United States
ATTACH;FMTTYPE=image/png:https://bootcampaign.org/wp-content/uploads/2023/12/Chili-When-Its-Chilly.png
ORGANIZER;CN="A Major Funding Inc.":MAILTO:info@chiliwhenitschilly.org
END:VEVENT
BEGIN:VEVENT
DTSTART;TZID=America/Chicago:20241116T020000
DTEND;TZID=America/Chicago:20241116T110000
DTSTAMP:20260425T092901
CREATED:20230919T010004Z
LAST-MODIFIED:20240301T231715Z
UID:10000005-1731722400-1731754800@bootcampaign.org
SUMMARY:SHINER BEER RUN
DESCRIPTION:For the twelfth year in a row\, people can see why nearly 2\,500 Shiner residents love the Cleanest Little City in Texas. Routes begin together at the historic Spoetzl Brewery. The 5K is an out-and-back course through the picturesque city\, while the Half Marathon is a hilly but scenic route through the Texas countryside\, winding through Green Dickson Park and including a mile of loose gravel. \nProceeds from Shiner’s annual Beer Run benefit our mission at Boot Campaign. To learn more or sign up\, visit shinerbeerrun.com.
URL:https://bootcampaign.org/event/shiner-beer-run/
LOCATION:The Spoetzel Brewery\, 603 E Brewery St\, Shiner\, TX\, 77984\, United States
ATTACH;FMTTYPE=image/png:https://bootcampaign.org/wp-content/uploads/2023/09/Screen-Shot-2023-09-01-at-4.17.02-PM-e1756394107440.png
END:VEVENT
BEGIN:VEVENT
DTSTART;TZID=America/Chicago:20241026T033000
DTEND;TZID=America/Chicago:20241026T053000
DTSTAMP:20260425T092901
CREATED:20240808T082221Z
LAST-MODIFIED:20241008T232434Z
UID:10000047-1729913400-1729920600@bootcampaign.org
SUMMARY:Brookhaven Country Club 5K Run
DESCRIPTION:
URL:https://bootcampaign.org/event/brookhaven-country-club-5k-run/
LOCATION:Brookhaven Country Club\, 3333 Golfing Green Dr\, Farmers Branch\, TX\, 75234\, United States
ATTACH;FMTTYPE=image/png:https://bootcampaign.org/wp-content/uploads/2024/08/Brookhaven-Country-Club-logo.png
END:VEVENT
BEGIN:VEVENT
DTSTART;TZID=America/Chicago:20241005T040000
DTEND;TZID=America/Chicago:20241005T060000
DTSTAMP:20260425T092901
CREATED:20240808T083225Z
LAST-MODIFIED:20240808T083225Z
UID:10000048-1728100800-1728108000@bootcampaign.org
SUMMARY:Brookhaven Country Club Pickleball Tournament
DESCRIPTION:
URL:https://bootcampaign.org/event/brookhaven-country-club-pickleball-tournament/
LOCATION:Brookhaven Country Club\, 3333 Golfing Green Dr\, Farmers Branch\, TX\, 75234\, United States
ATTACH;FMTTYPE=image/png:https://bootcampaign.org/wp-content/uploads/2024/08/Brookhaven-Country-Club-logo.png
END:VEVENT
BEGIN:VEVENT
DTSTART;TZID=America/Chicago:20241003T130000
DTEND;TZID=America/Chicago:20241003T170000
DTSTAMP:20260425T092901
CREATED:20240731T031210Z
LAST-MODIFIED:20240731T031247Z
UID:10000043-1727960400-1727974800@bootcampaign.org
SUMMARY:Boot Bash
DESCRIPTION:A special evening with Boot Campaign\, keynote speaker\, Ret. U.S. Marine Corps Veteran and Fox News Contributor Johnny “Joey” Jones and a concert all in support of our mission. You won’t want to miss it! \n*Musical talent to be announced soon!
URL:https://bootcampaign.org/event/boot-bash/
LOCATION:The Venue at Live Oak\, 3201 Elkins Rd.\, Midland\, TX\, 79705
ATTACH;FMTTYPE=image/jpeg:https://bootcampaign.org/wp-content/uploads/2024/07/OneCause-Cover-Image-scaled.jpg
END:VEVENT
BEGIN:VEVENT
DTSTART;TZID=America/Chicago:20240928T130000
DTEND;TZID=America/Chicago:20240928T170000
DTSTAMP:20260425T092901
CREATED:20240808T080439Z
LAST-MODIFIED:20240808T081839Z
UID:10000046-1727528400-1727542800@bootcampaign.org
SUMMARY:The Haven Charity Classic Gala
DESCRIPTION:
URL:https://bootcampaign.org/event/the-haven-charity-classic-gala/
LOCATION:Brookhaven Country Club\, 3333 Golfing Green Dr\, Farmers Branch\, TX\, 75234\, United States
ATTACH;FMTTYPE=image/png:https://bootcampaign.org/wp-content/uploads/2024/08/Brookhaven-Country-Club-logo.png
END:VEVENT
BEGIN:VEVENT
DTSTART;TZID=America/Chicago:20240926T130000
DTEND;TZID=America/Chicago:20240926T170000
DTSTAMP:20260425T092901
CREATED:20240824T015801Z
LAST-MODIFIED:20240824T015801Z
UID:10000050-1727355600-1727370000@bootcampaign.org
SUMMARY:Hye Fashioned Takeover Bourbon Pairing Dinner
DESCRIPTION:Join Boot Campaign and Nancy Garrison of Garrison Brothers Distillery for an unforgettable five-course Bourbon Pairing Dinner at Macallans Public House in support of our mission.
URL:https://bootcampaign.org/event/hye-fashioned-dinner-brea/
LOCATION:Macallans Public House\, 330 W Birch St\, Brea\, CA\, 92821\, United States
ATTACH;FMTTYPE=image/jpeg:https://bootcampaign.org/wp-content/uploads/2024/08/2024-HFT-BPD-Macallans-Nancy-SEP26-R2-1080x1080-1.jpg
END:VEVENT
BEGIN:VEVENT
DTSTART;TZID=America/Chicago:20240922T050000
DTEND;TZID=America/Chicago:20240922T170000
DTSTAMP:20260425T092901
CREATED:20240506T202100Z
LAST-MODIFIED:20240506T202619Z
UID:10000042-1726981200-1727024400@bootcampaign.org
SUMMARY:Swing For A Cause
DESCRIPTION:
URL:https://bootcampaign.org/event/swing-for-a-cause/
LOCATION:Coolray Field\, 2500 Buford D\, Lawrenceville\, GA\, 30043\, United States
ATTACH;FMTTYPE=image/png:https://bootcampaign.org/wp-content/uploads/2024/05/Swing-for-a-Cause-Logo.png
ORGANIZER;CN="Swing For A Cause":MAILTO:sfacveteranscelebrities@gmail.com
END:VEVENT
BEGIN:VEVENT
DTSTART;TZID=America/Chicago:20240921T123000
DTEND;TZID=America/Chicago:20240921T160000
DTSTAMP:20260425T092901
CREATED:20240305T020821Z
LAST-MODIFIED:20240731T031844Z
UID:10000038-1726921800-1726934400@bootcampaign.org
SUMMARY:Boots on the Beach - Uniting Vero for Veterans
DESCRIPTION:A special evening with Boot Campaign\, keynote speaker U.S. Navy SEAL Veteran Clint Bruce and dinner all in support of our mission. Last year’s kick off event was a huge success and you won’t want to miss out this year!
URL:https://bootcampaign.org/event/vero/
LOCATION:Riomar Golf Club\, 2106 Club Drive\, Vero Beach\, FL\, 32963
ATTACH;FMTTYPE=image/jpeg:https://bootcampaign.org/wp-content/uploads/2023/10/banner-home-_photo.jpg
END:VEVENT
BEGIN:VEVENT
DTSTART;TZID=America/Chicago:20240914T130000
DTEND;TZID=America/Chicago:20240914T170000
DTSTAMP:20260425T092901
CREATED:20240302T030739Z
LAST-MODIFIED:20240808T081728Z
UID:10000037-1726318800-1726333200@bootcampaign.org
SUMMARY:PBR Lewisville Presented by Zimmerer Kubota
DESCRIPTION:Professional Bull Riding returns to Lewisville\, Texas on September 14\, 2024. Join in and cheer on these modern-day gladiators as they attempt to make an 8-second ride aboard a bucking bull. This family friendly event is sure to entertain and thrill. \nTo buy your tickets online click here\, and for sponsorship information click here. Proceeds from PBR Lewisville benefits Boot Campaign.
URL:https://bootcampaign.org/event/pbr-lewisville/
LOCATION:Bill Weaver Rodeo Arena\, 101 Parkway Drive\, Lewisville\, TX\, 75057\, United States
ATTACH;FMTTYPE=image/jpeg:https://bootcampaign.org/wp-content/uploads/2024/03/PBR-Lewisville-presented-by-Zimmerer-Kubota-2024-Logo.jpeg
END:VEVENT
BEGIN:VEVENT
DTSTART;TZID=America/Chicago:20240913T133000
DTEND;TZID=America/Chicago:20240913T170000
DTSTAMP:20260425T092901
CREATED:20240904T014628Z
LAST-MODIFIED:20240904T014848Z
UID:10000052-1726234200-1726246800@bootcampaign.org
SUMMARY:PBR Red\, White & Bulls Dinner & Auction
DESCRIPTION:
URL:https://bootcampaign.org/event/pbr-red-white-bulls-dinner-auction/
LOCATION:Sneaky Pete’s\, 2 Eagle Point Road\, Lewisville\, TX\, 75077\, United States
ATTACH;FMTTYPE=image/jpeg:https://bootcampaign.org/wp-content/uploads/2024/09/PBR-Red-White-Bulls-Dinner-Auction-.jpeg
END:VEVENT
BEGIN:VEVENT
DTSTART;TZID=America/Chicago:20240913T130000
DTEND;TZID=America/Chicago:20240913T160000
DTSTAMP:20260425T092901
CREATED:20240824T023836Z
LAST-MODIFIED:20240824T024205Z
UID:10000051-1726232400-1726243200@bootcampaign.org
SUMMARY:Hye Fashioned Takeover Meet the Maker Happy Hour
DESCRIPTION:Enjoy a night filled with mini-golf\, small bites\, and more as you meet the makers behind Garrison Brothers Distillery and support those we serve at Boot Campaign.
URL:https://bootcampaign.org/event/hye-fashioned-takeover-dc/
LOCATION:Puttery DC\, 800 F St NW\, Washington\, DC\, 20004\, United States
ATTACH;FMTTYPE=image/jpeg:https://bootcampaign.org/wp-content/uploads/2024/08/2024-HFT-MTM-BPD-Puttery-Dan-Donnis-SEP13-1080x1080-1.jpg
END:VEVENT
BEGIN:VEVENT
DTSTART;TZID=America/Chicago:20240909T133000
DTEND;TZID=America/Chicago:20240909T163000
DTSTAMP:20260425T092901
CREATED:20240808T025411Z
LAST-MODIFIED:20240808T025411Z
UID:10000044-1725888600-1725899400@bootcampaign.org
SUMMARY:Plates of Purpose
DESCRIPTION:Join Chef Austin Simmons and Boot Campaign on Monday\, September 9 at 6:30 pm for a special evening at TRIS. The intimate event will include a one-of-a-kind dinner\, a special guest speaker and an opportunity to learn more about our mission and how we serve the Veteran and military community.
URL:https://bootcampaign.org/event/plates-of-purpose/
LOCATION:TRIS\, 24 Waterway Avenue Suite # 125\, The Woodlands\, TX\, 77380\, United States
ATTACH;FMTTYPE=image/jpeg:https://bootcampaign.org/wp-content/uploads/2024/08/update_Hou-Dinner_OneCause-1-scaled.jpg
END:VEVENT
BEGIN:VEVENT
DTSTART;TZID=America/Chicago:20240824T033000
DTEND;TZID=America/Chicago:20240824T120000
DTSTAMP:20260425T092901
CREATED:20240808T075849Z
LAST-MODIFIED:20240808T083400Z
UID:10000045-1724470200-1724500800@bootcampaign.org
SUMMARY:The Haven Charity Classic Golf Tournament
DESCRIPTION:
URL:https://bootcampaign.org/event/the-haven-charity-classic-golf-tournament/
LOCATION:Brookhaven Country Club\, 3333 Golfing Green Dr\, Farmers Branch\, TX\, 75234\, United States
ATTACH;FMTTYPE=image/png:https://bootcampaign.org/wp-content/uploads/2024/08/Brookhaven-Country-Club-logo.png
END:VEVENT
BEGIN:VEVENT
DTSTART;VALUE=DATE:20240517
DTEND;VALUE=DATE:20240519
DTSTAMP:20260425T092901
CREATED:20240302T025515Z
LAST-MODIFIED:20240302T025515Z
UID:10000036-1715972400-1716058799@bootcampaign.org
SUMMARY:Pushups for Charity
DESCRIPTION:Save the date for the 13th Annual Pushups for Charity event hosted by Recoup Personal Training to benefit Boot Campaign! \nMore details to come!
URL:https://bootcampaign.org/event/pushups-for-charity/
LOCATION:Recoup\, 2263 Fairview Rd\, Suite A & B\, Costa Mesa\, CA\, 92627\, United States
ATTACH;FMTTYPE=image/jpeg:https://bootcampaign.org/wp-content/uploads/2024/03/Recoup-Personal-Training-2022-113-pushups-for-charity.jpg
ORGANIZER;CN="Recoup Personal Training":MAILTO:info@recouppersonaltraining.com
END:VEVENT
BEGIN:VEVENT
DTSTART;TZID=America/Chicago:20240514T030000
DTEND;TZID=America/Chicago:20240514T120000
DTSTAMP:20260425T092901
CREATED:20240305T021413Z
LAST-MODIFIED:20240327T195237Z
UID:10000039-1715655600-1715688000@bootcampaign.org
SUMMARY:Seasons Of Service Spring Volunteer Event
DESCRIPTION:Volunteer to help us wrap\, package and assemble gifts in Grapevine\, Texas on Tuesday May 14\, 2024. Click Here to register for yourself\, your family or your group!
URL:https://bootcampaign.org/event/seasonsofservice-spring/
LOCATION:Grapevine\, TX
ATTACH;FMTTYPE=image/jpeg:https://bootcampaign.org/wp-content/uploads/2023/11/SB-video-cover.jpg
END:VEVENT
BEGIN:VEVENT
DTSTART;VALUE=DATE:20240418
DTEND;VALUE=DATE:20240422
DTSTAMP:20260425T092901
CREATED:20240318T234238Z
LAST-MODIFIED:20240403T004629Z
UID:10000041-1713466800-1713725999@bootcampaign.org
SUMMARY:Invited Celebrity Classic
DESCRIPTION:
URL:https://bootcampaign.org/event/invited-celebrity-classic/
LOCATION:Las Colinas Country Club\, 4400 N O'Connor Rd\, Irving\, TX\, 75062\, United States
ATTACH;FMTTYPE=image/png:https://bootcampaign.org/wp-content/uploads/2024/03/Invited-Celebrity-Classic-2023Choctaw_Stacked_RGB_FullColor.png
END:VEVENT
BEGIN:VEVENT
DTSTART;VALUE=DATE:20240405
DTEND;VALUE=DATE:20240407
DTSTAMP:20260425T092901
CREATED:20231220T015029Z
LAST-MODIFIED:20231220T015352Z
UID:10000032-1712343600-1712429999@bootcampaign.org
SUMMARY:Basin Burnout
DESCRIPTION:The Permian Basin Association of Directional Drilling’s (PBADD) annual BASIN BURNOUT BBQ Cook-off & Music Festival is a fundraising event that allows a part of the oil and gas industry to give back to the Permian Basin community as well as raise money and awareness for U.S. military veterans. Over 30 BBQ cooking teams (primarily of oilfield related service companies along with public and private energy firms)\, compete in an unsanctioned BBQ cooking competition. All teams compete in multiple categories (brisket\, steak\, ribs\, chicken\, etc.) for a chance to call themselves the best in the Basin and take home the coveted Championship belt. This spirited competition also includes a “Fan Favorite” award voted on by close to 2\,000 attendees. \nThe 2024 Basin Burnout will be held at a new venue\, the Centennial Park. This “must visit” landmark of Midland and West Texas provides a premier green space and gathering place in downtown. The Burnout continues to focus on providing something for all; kid-friendly activities\, live entertainment\, and Permian’s best amateur BBQ and plenty of opportunities to network for all our sponsors and cooking teams.
URL:https://bootcampaign.org/event/basin-burnout/
LOCATION:Centennial Park\, 200 W Wall St\, Midland\, TX\, 79701\, United States
ATTACH;FMTTYPE=image/png:https://bootcampaign.org/wp-content/uploads/2023/12/Screenshot-2023-12-19-at-1.42.59-PM.png
ORGANIZER;CN="Permian Basin Association of Directional Drilling (PBADD)":MAILTO:info@basinburnout.com
END:VEVENT
BEGIN:VEVENT
DTSTART;TZID=America/Chicago:20240322T103000
DTEND;TZID=America/Chicago:20240322T163000
DTSTAMP:20260425T092901
CREATED:20240301T224955Z
LAST-MODIFIED:20240301T225701Z
UID:10000034-1711103400-1711125000@bootcampaign.org
SUMMARY:The Veterans Cup
DESCRIPTION:
URL:https://bootcampaign.org/event/the-veterans-cup/
LOCATION:Boulevard Tennis Club\, 1620 Blvd Village Ln\, Vero Beach\, FL\, 32967\, United States
ATTACH;FMTTYPE=image/png:https://bootcampaign.org/wp-content/uploads/2024/03/The-Veterans-Cup-Event-Flyer.png
END:VEVENT
BEGIN:VEVENT
DTSTART;VALUE=DATE:20240215
DTEND;VALUE=DATE:20240218
DTSTAMP:20260425T092901
CREATED:20231220T020320Z
LAST-MODIFIED:20231220T020355Z
UID:10000033-1708020000-1708192799@bootcampaign.org
SUMMARY:Chili When It's Chilly
DESCRIPTION:Chili When It’s Chilly is a family-friendly two-day event jammed packed with cooking competitions\, live music and a ton of fun to benefit Boot Campaign! \nYour support of Chili When It’s Chilly gives our servicemen and women access to life-improving programs – free of charge – to the Veteran and their family through Boot Campaign.
URL:https://bootcampaign.org/event/chili-when-its-chilly/
LOCATION:Jellystone Park™ Waller\, 34843 Betka Road\, Waller\, TX\, 77484\, United States
ATTACH;FMTTYPE=image/png:https://bootcampaign.org/wp-content/uploads/2023/12/Chili-When-Its-Chilly.png
ORGANIZER;CN="A Major Funding Inc.":MAILTO:info@chiliwhenitschilly.org
END:VEVENT
BEGIN:VEVENT
DTSTART;VALUE=DATE:20231203
DTEND;VALUE=DATE:20231209
DTSTAMP:20260425T092901
CREATED:20230919T010319Z
LAST-MODIFIED:20231114T102319Z
UID:10000007-1701626400-1702058399@bootcampaign.org
SUMMARY:SANTA BOOTS VOLUNTEER WEEK
DESCRIPTION:The holidays are often difficult for many military families who have recently had a permanent change of duty station\, are separated because of deployment\, or are caring for the health of a wounded\, injured or ill service member. \nBoot Campaign’s Santa Boots Program unites Americans to show gratitude\, meet service members’ needs and strives to alleviate stress and financial burden by delivering specially-curated gifts to Veteran and active duty military families nationwide. \nVolunteer activities during our Volunteer Week in Grapevine\, TX include: wrapping\, shipping\, and supporting our overall organization and execution of the Santa Boots Program. To sign up for a volunteer shift\, click here or visit our program page at bootcampaign.org/santaboots to find other ways to get involved.
URL:https://bootcampaign.org/event/santa-boots-volunteer-week/
LOCATION:Grapevine\, TX
ATTACH;FMTTYPE=image/jpeg:https://bootcampaign.org/wp-content/uploads/2023/09/DSC08650-scaled-e1756392964953.jpg
END:VEVENT
BEGIN:VEVENT
DTSTART;TZID=America/Chicago:20231128T020000
DTEND;TZID=America/Chicago:20231128T110000
DTSTAMP:20260425T092901
CREATED:20230919T010221Z
LAST-MODIFIED:20231114T101645Z
UID:10000006-1701136800-1701169200@bootcampaign.org
SUMMARY:GIVING TUESDAY
DESCRIPTION:Join in the Global Day of Giving for Giving Tuesday by making a one-time or recurring donation in support of the Veterans and military families we serve at Boot Campaign. \nDONATE NOW
URL:https://bootcampaign.org/event/giving-tuesday/
LOCATION:Virtual
ATTACH;FMTTYPE=image/jpeg:https://bootcampaign.org/wp-content/uploads/2023/09/DONATE-shutterstock_1244136541-scaled.jpg
END:VEVENT
END:VCALENDAR